BEGIN:VCALENDAR
VERSION:2.0
PRODID:-//www.schuleuttigen.ch//NONSGML kigkonsult.se ICALCREATOR_VERSION//
CALSCALE:GREGORIAN
METHOD:PUBLISH
X-WR-TIMEZONE','EUROPE/BERLIN:
BEGIN:VEVENT
UID:20260420T102820CEST-34260VHkIp@www.schuleuttigen.ch
DTSTAMP:20260420T082820Z
DESCRIPTION:Klicken Sie auf den folgenden Link\, um weitere Informationen z
 ur Veranstaltung zu erhalten:\nhttp://www.schuleuttigen.ch/de/veranstaltun
 gen/detail/detail.php?i=297
DTSTART:20260314T203000
DTEND:20260314T220000
LOCATION:Rollhockeyhalle Grüeneblätz
SUMMARY:Heimspiel RSC Uttigen Damen vs. RHC Diessbach / Anpfiff 20:30 Uhr
END:VEVENT
END:VCALENDAR
