BEGIN:VCALENDAR
VERSION:2.0
PRODID:-//www.schuleuttigen.ch//NONSGML kigkonsult.se ICALCREATOR_VERSION//
CALSCALE:GREGORIAN
METHOD:PUBLISH
X-WR-TIMEZONE','EUROPE/BERLIN:
BEGIN:VEVENT
UID:20260420T104602CEST-5211neV3mf@www.schuleuttigen.ch
DTSTAMP:20260420T084602Z
DESCRIPTION:Klicken Sie auf den folgenden Link\, um weitere Informationen z
 ur Veranstaltung zu erhalten:\nhttp://www.schuleuttigen.ch/de/veranstaltun
 gen/detail/detail.php?i=296
DTSTART:20260314T180000
DTEND:20260314T193000
LOCATION:Rollhockeyhalle Grüeneblätz
SUMMARY:Heimspiel RSC Uttigen NLA vs. Genève RHC / Anpfiff 18:00 Uhr
END:VEVENT
END:VCALENDAR
